0.00833333330000
0.00000000000000
0.00000000000000
-0.00833333330000
-180.00000000334998
65.00000000335001
